BEGIN:VCALENDAR
VERSION:2.0
PRODID:-//FordHockey.com//NONSGML Thunderbolts//EN
METHOD:PUBLISH
CALSCALE:GREGORIAN
BEGIN:VTIMEZONE
TZID:America/Detroit
BEGIN:DAYLIGHT
TZOFFSETFROM:-0500
TZOFFSETTO:-0400
TZNAME:EDT
DTSTART:20070311T020000
RRULE:FREQ=YEARLY;BYMONTH=3;BYDAY=2SU
END:DAYLIGHT
BEGIN:STANDARD
TZOFFSETFROM:-0400
TZOFFSETTO:-0500
TZNAME:EST
DTSTART:20071104T020000
RRULE:FREQ=YEARLY;BYMONTH=11;BYDAY=1SU
END:STANDARD
END:VTIMEZONE
BEGIN:VEVENT
UID:1757113200-13@fordhockey.com
DTSTAMP:20260420T065641Z
DTSTART;TZID=America/Detroit:20250905T190000
DTEND;TZID=America/Detroit:20250905T200000
LOCATION:Allen Park Ice Arena
SUMMARY:Mariners at Thunderbolts
DESCRIPTION:Mariners at Thunderbolts
END:VEVENT
BEGIN:VEVENT
UID:1757718000-13@fordhockey.com
DTSTAMP:20260420T065641Z
DTSTART;TZID=America/Detroit:20250912T190000
DTEND;TZID=America/Detroit:20250912T200000
LOCATION:Allen Park Ice Arena
SUMMARY:Bullitts at Thunderbolts
DESCRIPTION:Bullitts at Thunderbolts
END:VEVENT
BEGIN:VEVENT
UID:1758916800-13@fordhockey.com
DTSTAMP:20260420T065641Z
DTSTART;TZID=America/Detroit:20250926T160000
DTEND;TZID=America/Detroit:20250926T170000
LOCATION:Allen Park Ice Arena
SUMMARY:Thunderbolts at Marauders
DESCRIPTION:Thunderbolts at Marauders
END:VEVENT
BEGIN:VEVENT
UID:1759192200-13@fordhockey.com
DTSTAMP:20260420T065641Z
DTSTART;TZID=America/Detroit:20250929T203000
DTEND;TZID=America/Detroit:20250929T213000
LOCATION:Allen Park Ice Arena
SUMMARY:Thunderbolts at Edsels
DESCRIPTION:Thunderbolts at Edsels
END:VEVENT
BEGIN:VEVENT
UID:1759528800-13@fordhockey.com
DTSTAMP:20260420T065641Z
DTSTART;TZID=America/Detroit:20251003T180000
DTEND;TZID=America/Detroit:20251003T190000
LOCATION:Allen Park Ice Arena
SUMMARY:Thunderbolts at Galaxies
DESCRIPTION:Thunderbolts at Galaxies
END:VEVENT
BEGIN:VEVENT
UID:1760126400-13@fordhockey.com
DTSTAMP:20260420T065641Z
DTSTART;TZID=America/Detroit:20251010T160000
DTEND;TZID=America/Detroit:20251010T170000
LOCATION:Allen Park Ice Arena
SUMMARY:Thunderbolts at SuperChiefs
DESCRIPTION:Thunderbolts at SuperChiefs
END:VEVENT
BEGIN:VEVENT
UID:1760401800-13@fordhockey.com
DTSTAMP:20260420T065641Z
DTSTART;TZID=America/Detroit:20251013T203000
DTEND;TZID=America/Detroit:20251013T213000
LOCATION:Allen Park Ice Arena
SUMMARY:Cobras at Thunderbolts
DESCRIPTION:Cobras at Thunderbolts
END:VEVENT
BEGIN:VEVENT
UID:1762219800-13@fordhockey.com
DTSTAMP:20260420T065641Z
DTSTART;TZID=America/Detroit:20251103T203000
DTEND;TZID=America/Detroit:20251103T213000
LOCATION:Allen Park Ice Arena
SUMMARY:Aerostars at Thunderbolts
DESCRIPTION:Aerostars at Thunderbolts
END:VEVENT
BEGIN:VEVENT
UID:1763161200-13@fordhockey.com
DTSTAMP:20260420T065641Z
DTSTART;TZID=America/Detroit:20251114T180000
DTEND;TZID=America/Detroit:20251114T190000
LOCATION:Allen Park Ice Arena
SUMMARY:Mustangs at Thunderbolts
DESCRIPTION:Mustangs at Thunderbolts
END:VEVENT
BEGIN:VEVENT
UID:1763766000-13@fordhockey.com
DTSTAMP:20260420T065641Z
DTSTART;TZID=America/Detroit:20251121T180000
DTEND;TZID=America/Detroit:20251121T190000
LOCATION:Allen Park Ice Arena
SUMMARY:Thunderbolts at Mariners
DESCRIPTION:Thunderbolts at Mariners
END:VEVENT
BEGIN:VEVENT
UID:1765584000-13@fordhockey.com
DTSTAMP:20260420T065641Z
DTSTART;TZID=America/Detroit:20251212T190000
DTEND;TZID=America/Detroit:20251212T200000
LOCATION:Allen Park Ice Arena
SUMMARY:Marauders at Thunderbolts
DESCRIPTION:Marauders at Thunderbolts
END:VEVENT
BEGIN:VEVENT
UID:1765848600-13@fordhockey.com
DTSTAMP:20260420T065641Z
DTSTART;TZID=America/Detroit:20251215T203000
DTEND;TZID=America/Detroit:20251215T213000
LOCATION:Allen Park Ice Arena
SUMMARY:Edsels at Thunderbolts
DESCRIPTION:Edsels at Thunderbolts
END:VEVENT
BEGIN:VEVENT
UID:1767666600-13@fordhockey.com
DTSTAMP:20260420T065641Z
DTSTART;TZID=America/Detroit:20260105T213000
DTEND;TZID=America/Detroit:20260105T223000
LOCATION:Allen Park Ice Arena
SUMMARY:Edsels at Thunderbolts
DESCRIPTION:Edsels at Thunderbolts
END:VEVENT
BEGIN:VEVENT
UID:1768271400-13@fordhockey.com
DTSTAMP:20260420T065641Z
DTSTART;TZID=America/Detroit:20260112T213000
DTEND;TZID=America/Detroit:20260112T223000
LOCATION:Allen Park Ice Arena
SUMMARY:Thunderbolts at Bullitts
DESCRIPTION:Thunderbolts at Bullitts
END:VEVENT
BEGIN:VEVENT
UID:1769205600-13@fordhockey.com
DTSTAMP:20260420T065641Z
DTSTART;TZID=America/Detroit:20260123T170000
DTEND;TZID=America/Detroit:20260123T180000
LOCATION:Allen Park Ice Arena
SUMMARY:SuperChiefs at Thunderbolts
DESCRIPTION:SuperChiefs at Thunderbolts
END:VEVENT
BEGIN:VEVENT
UID:1769481000-13@fordhockey.com
DTSTAMP:20260420T065641Z
DTSTART;TZID=America/Detroit:20260126T213000
DTEND;TZID=America/Detroit:20260126T223000
LOCATION:Allen Park Ice Arena
SUMMARY:Thunderbolts at Cobras
DESCRIPTION:Thunderbolts at Cobras
END:VEVENT
BEGIN:VEVENT
UID:1770690600-13@fordhockey.com
DTSTAMP:20260420T065641Z
DTSTART;TZID=America/Detroit:20260209T213000
DTEND;TZID=America/Detroit:20260209T223000
LOCATION:Allen Park Ice Arena
SUMMARY:Thunderbolts at Aerostars
DESCRIPTION:Thunderbolts at Aerostars
END:VEVENT
BEGIN:VEVENT
UID:1771624800-13@fordhockey.com
DTSTAMP:20260420T065641Z
DTSTART;TZID=America/Detroit:20260220T170000
DTEND;TZID=America/Detroit:20260220T180000
LOCATION:Allen Park Ice Arena
SUMMARY:Thunderbolts at Mustangs
DESCRIPTION:Thunderbolts at Mustangs
END:VEVENT
BEGIN:VEVENT
UID:1772503800-13@fordhockey.com
DTSTAMP:20260420T065641Z
DTSTART;TZID=America/Detroit:20260302T211000
DTEND;TZID=America/Detroit:20260302T221000
LOCATION:Allen Park Ice Arena
SUMMARY:Galaxies at Thunderbolts
DESCRIPTION:Galaxies at Thunderbolts
END:VEVENT
BEGIN:VEVENT
UID:1773108000-13@fordhockey.com
DTSTAMP:20260420T065641Z
DTSTART;TZID=America/Detroit:20260309T220000
DTEND;TZID=America/Detroit:20260309T230000
LOCATION:Allen Park Ice Arena
SUMMARY:Thunderbolts at Cobras
DESCRIPTION:Thunderbolts at Cobras
END:VEVENT
BEGIN:VEVENT
UID:1773712800-13@fordhockey.com
DTSTAMP:20260420T065641Z
DTSTART;TZID=America/Detroit:20260316T220000
DTEND;TZID=America/Detroit:20260316T230000
LOCATION:Allen Park Ice Arena
SUMMARY:Aerostars at Thunderbolts
DESCRIPTION:Aerostars at Thunderbolts
END:VEVENT
BEGIN:VEVENT
UID:1774297800-13@fordhockey.com
DTSTAMP:20260420T065641Z
DTSTART;TZID=America/Detroit:20260323T163000
DTEND;TZID=America/Detroit:20260323T173000
LOCATION:Allen Park Ice Arena
SUMMARY:Thunderbolts at SuperChiefs
DESCRIPTION:Thunderbolts at SuperChiefs
END:VEVENT
BEGIN:VEVENT
UID:1774902600-13@fordhockey.com
DTSTAMP:20260420T065641Z
DTSTART;TZID=America/Detroit:20260330T163000
DTEND;TZID=America/Detroit:20260330T173000
LOCATION:Allen Park Ice Arena
SUMMARY:Thunderbolts at Bullitts
DESCRIPTION:Thunderbolts at Bullitts
END:VEVENT
BEGIN:VEVENT
UID:1775514600-13@fordhockey.com
DTSTAMP:20260420T065641Z
DTSTART;TZID=America/Detroit:20260406T183000
DTEND;TZID=America/Detroit:20260406T193000
LOCATION:Allen Park Ice Arena
SUMMARY:Edsels at Thunderbolts
DESCRIPTION:Edsels at Thunderbolts
END:VEVENT
BEGIN:VEVENT
UID:1776292200-13@fordhockey.com
DTSTAMP:20260420T065641Z
DTSTART;TZID=America/Detroit:20260415T183000
DTEND;TZID=America/Detroit:20260415T193000
LOCATION:Allen Park Ice Arena
SUMMARY:Marauders at Thunderbolts
DESCRIPTION:Marauders at Thunderbolts
END:VEVENT
END:VCALENDAR
